View In:
ArcGIS JavaScript
ArcGIS Online Map Viewer
ArcGIS Earth
Service Description: mercado_tierras_rurales/rangos_avaluos
Name: mercado_tierras_rurales/rangos_avaluos
Description:
Single Fused Map Cache: false
Extent:
XMin: -9114714.937576368
YMin: -466694.47987275873
XMax: -7489074.937576368
YMax: 1516965.5201272413
Spatial Reference: 102100
(3857)
Initial Extent:
XMin: -9114714.937576368
YMin: -466694.47987275873
XMax: -7489074.937576368
YMax: 1516965.5201272413
Spatial Reference: 102100
(3857)
Full Extent:
XMin: -9114714.937576368
YMin: -466694.47987275873
XMax: -7489074.937576368
YMax: 1516965.5201272413
Spatial Reference: 102100
(3857)
Pixel Size X: 60.0
Pixel Size Y: 60.0
Band Count: 1
Pixel Type: U16
RasterFunction Infos: {"rasterFunctionInfos": [{
"name": "None",
"description": "",
"help": ""
}]}
Mensuration Capabilities: Basic
Has Histograms: true
Has Colormap: false
Has Multi Dimensions : false
Rendering Rule:
Min Scale: 0
Max Scale: 0
Copyright Text:
Service Data Type: esriImageServiceDataTypeGeneric
Min Values: 1
Max Values: 15000
Mean Values: 5568.81396874211
Standard Deviation Values: 4895.3492354967775
Object ID Field:
Fields:
None
Default Mosaic Method: Center
Allowed Mosaic Methods:
SortField:
SortValue: null
Mosaic Operator: First
Default Compression Quality: 75
Default Resampling Method: Bilinear
Max Record Count: null
Max Image Height: 4100
Max Image Width: 15000
Max Download Image Count: null
Max Mosaic Image Count: null
Allow Raster Function: true
Allow Copy: true
Allow Analysis: true
Allow Compute TiePoints: false
Supports Statistics: false
Supports Advanced Queries: false
Use StandardizedQueries: true
Raster Type Infos:
Name: Raster Dataset
Description: Supports all ArcGIS Raster Datasets
Help:
Has Raster Attribute Table: true
Edit Fields Info: null
Ownership Based AccessControl For Rasters: null
Child Resources:
Info
Raster Attribute Table
Histograms
Statistics
Key Properties
Legend
Raster Function Infos
Supported Operations:
Export Image
Identify
Measure
Compute Histograms
Compute Statistics Histograms
Get Samples
Compute Class Statistics
Query Boundary
Compute Pixel Location
Compute Angles
Validate
Project